BEGIN:VCALENDAR
VERSION:2.0
PRODID:-//Geneva Scottish Country Dancing Club - ECPv6.15.20//NONSGML v1.0//EN
CALSCALE:GREGORIAN
METHOD:PUBLISH
X-ORIGINAL-URL:https://genevascdc.com/fr/
X-WR-CALDESC:Évènements pour Geneva Scottish Country Dancing Club
REFRESH-INTERVAL;VALUE=DURATION:PT1H
X-Robots-Tag:noindex
X-PUBLISHED-TTL:PT1H
BEGIN:VTIMEZONE
TZID:Europe/Zurich
BEGIN:DAYLIGHT
TZOFFSETFROM:+0100
TZOFFSETTO:+0200
TZNAME:CEST
DTSTART:20250330T010000
END:DAYLIGHT
BEGIN:STANDARD
TZOFFSETFROM:+0200
TZOFFSETTO:+0100
TZNAME:CET
DTSTART:20251026T010000
END:STANDARD
BEGIN:DAYLIGHT
TZOFFSETFROM:+0100
TZOFFSETTO:+0200
TZNAME:CEST
DTSTART:20260329T010000
END:DAYLIGHT
BEGIN:STANDARD
TZOFFSETFROM:+0200
TZOFFSETTO:+0100
TZNAME:CET
DTSTART:20261025T010000
END:STANDARD
BEGIN:DAYLIGHT
TZOFFSETFROM:+0100
TZOFFSETTO:+0200
TZNAME:CEST
DTSTART:20270328T010000
END:DAYLIGHT
BEGIN:STANDARD
TZOFFSETFROM:+0200
TZOFFSETTO:+0100
TZNAME:CET
DTSTART:20271031T010000
END:STANDARD
END:VTIMEZONE
BEGIN:VEVENT
DTSTART;TZID=Europe/Zurich:20260305T181500
DTEND;TZID=Europe/Zurich:20260305T200000
DTSTAMP:20260421T224420
CREATED:20231020T132533Z
LAST-MODIFIED:20260123T072356Z
UID:29495-1772734500-1772740800@genevascdc.com
SUMMARY:Danses du jeudi / Apéro canadien
DESCRIPTION:Description
URL:https://genevascdc.com/fr/event/danses-du-jeudi-2/
LOCATION:Ecole Necker\, 4 Rue Necker\, 1201 Geneva\, Switzerland
END:VEVENT
BEGIN:VEVENT
DTSTART;TZID=Europe/Zurich:20260312T181500
DTEND;TZID=Europe/Zurich:20260312T200000
DTSTAMP:20260421T224420
CREATED:20231101T073712Z
LAST-MODIFIED:20260114T212005Z
UID:29571-1773339300-1773345600@genevascdc.com
SUMMARY:Danses du jeudi
DESCRIPTION:
URL:https://genevascdc.com/fr/event/social-class-4/
LOCATION:Ecole Necker\, 4 Rue Necker\, 1201 Geneva\, Switzerland
END:VEVENT
BEGIN:VEVENT
DTSTART;TZID=Europe/Zurich:20260319T061500
DTEND;TZID=Europe/Zurich:20260319T080000
DTSTAMP:20260421T224420
CREATED:20231101T073951Z
LAST-MODIFIED:20260114T211948Z
UID:29576-1773900900-1773907200@genevascdc.com
SUMMARY:Danses du jeudi
DESCRIPTION:
URL:https://genevascdc.com/fr/event/danses-du-jeudi-3/
LOCATION:Ecole Necker\, 4 Rue Necker\, 1201 Geneva\, Switzerland
END:VEVENT
BEGIN:VEVENT
DTSTART;TZID=Europe/Zurich:20260326T061500
DTEND;TZID=Europe/Zurich:20260326T200000
DTSTAMP:20260421T224420
CREATED:20231101T074113Z
LAST-MODIFIED:20260114T211905Z
UID:29581-1774505700-1774555200@genevascdc.com
SUMMARY:Danses du jeudi
DESCRIPTION:
URL:https://genevascdc.com/fr/event/danses-du-jeudi-4/
LOCATION:Ecole Necker\, 4 Rue Necker\, 1201 Geneva\, Switzerland
END:VEVENT
END:VCALENDAR