BEGIN:VCALENDAR
VERSION:2.0
PRODID:-//Geneva Scottish Country Dancing Club - ECPv6.15.20//NONSGML v1.0//EN
CALSCALE:GREGORIAN
METHOD:PUBLISH
X-WR-CALNAME:Geneva Scottish Country Dancing Club
X-ORIGINAL-URL:https://genevascdc.com
X-WR-CALDESC:Events for Geneva Scottish Country Dancing Club
REFRESH-INTERVAL;VALUE=DURATION:PT1H
X-Robots-Tag:noindex
X-PUBLISHED-TTL:PT1H
BEGIN:VTIMEZONE
TZID:Europe/Zurich
BEGIN:DAYLIGHT
TZOFFSETFROM:+0100
TZOFFSETTO:+0200
TZNAME:CEST
DTSTART:20240331T010000
END:DAYLIGHT
BEGIN:STANDARD
TZOFFSETFROM:+0200
TZOFFSETTO:+0100
TZNAME:CET
DTSTART:20241027T010000
END:STANDARD
BEGIN:DAYLIGHT
TZOFFSETFROM:+0100
TZOFFSETTO:+0200
TZNAME:CEST
DTSTART:20250330T010000
END:DAYLIGHT
BEGIN:STANDARD
TZOFFSETFROM:+0200
TZOFFSETTO:+0100
TZNAME:CET
DTSTART:20251026T010000
END:STANDARD
BEGIN:DAYLIGHT
TZOFFSETFROM:+0100
TZOFFSETTO:+0200
TZNAME:CEST
DTSTART:20260329T010000
END:DAYLIGHT
BEGIN:STANDARD
TZOFFSETFROM:+0200
TZOFFSETTO:+0100
TZNAME:CET
DTSTART:20261025T010000
END:STANDARD
END:VTIMEZONE
BEGIN:VEVENT
DTSTART;TZID=Europe/Zurich:20250306T181500
DTEND;TZID=Europe/Zurich:20250306T200000
DTSTAMP:20260421T202020
CREATED:20250215T115700Z
LAST-MODIFIED:20250215T122439Z
UID:29745-1741284900-1741291200@genevascdc.com
SUMMARY:Social Class
DESCRIPTION:
URL:https://genevascdc.com/event/social-class-19/
LOCATION:Ecole Necker\, 4 Rue Necker\, 1201 Geneva\, Switzerland
END:VEVENT
BEGIN:VEVENT
DTSTART;TZID=Europe/Zurich:20250313T181500
DTEND;TZID=Europe/Zurich:20250313T200000
DTSTAMP:20260421T202020
CREATED:20250215T115802Z
LAST-MODIFIED:20250215T115802Z
UID:29747-1741889700-1741896000@genevascdc.com
SUMMARY:Social class / Sips & Nibbles
DESCRIPTION:
URL:https://genevascdc.com/event/social-class-sips-nibbles-4/
LOCATION:Ecole Necker\, 4 Rue Necker\, 1201 Geneva\, Switzerland
END:VEVENT
BEGIN:VEVENT
DTSTART;TZID=Europe/Zurich:20250320T181500
DTEND;TZID=Europe/Zurich:20250320T200000
DTSTAMP:20260421T202020
CREATED:20250215T115850Z
LAST-MODIFIED:20250215T122515Z
UID:29749-1742494500-1742500800@genevascdc.com
SUMMARY:Social class
DESCRIPTION:
URL:https://genevascdc.com/event/social-class-20/
LOCATION:Ecole Necker\, 4 Rue Necker\, 1201 Geneva\, Switzerland
END:VEVENT
BEGIN:VEVENT
DTSTART;TZID=Europe/Zurich:20250327T181500
DTEND;TZID=Europe/Zurich:20250327T200000
DTSTAMP:20260421T202020
CREATED:20250215T120352Z
LAST-MODIFIED:20250215T120352Z
UID:29752-1743099300-1743105600@genevascdc.com
SUMMARY:Social class
DESCRIPTION:
URL:https://genevascdc.com/event/social-class-21/
LOCATION:Ecole Necker\, 4 Rue Necker\, 1201 Geneva\, Switzerland
END:VEVENT
END:VCALENDAR