BEGIN:VCALENDAR
VERSION:2.0
PRODID:-//Geneva Scottish Country Dancing Club - ECPv6.15.20//NONSGML v1.0//EN
CALSCALE:GREGORIAN
METHOD:PUBLISH
X-WR-CALNAME:Geneva Scottish Country Dancing Club
X-ORIGINAL-URL:https://genevascdc.com
X-WR-CALDESC:Events for Geneva Scottish Country Dancing Club
REFRESH-INTERVAL;VALUE=DURATION:PT1H
X-Robots-Tag:noindex
X-PUBLISHED-TTL:PT1H
BEGIN:VTIMEZONE
TZID:Europe/Zurich
BEGIN:DAYLIGHT
TZOFFSETFROM:+0100
TZOFFSETTO:+0200
TZNAME:CEST
DTSTART:20230326T010000
END:DAYLIGHT
BEGIN:STANDARD
TZOFFSETFROM:+0200
TZOFFSETTO:+0100
TZNAME:CET
DTSTART:20231029T010000
END:STANDARD
BEGIN:DAYLIGHT
TZOFFSETFROM:+0100
TZOFFSETTO:+0200
TZNAME:CEST
DTSTART:20240331T010000
END:DAYLIGHT
BEGIN:STANDARD
TZOFFSETFROM:+0200
TZOFFSETTO:+0100
TZNAME:CET
DTSTART:20241027T010000
END:STANDARD
BEGIN:DAYLIGHT
TZOFFSETFROM:+0100
TZOFFSETTO:+0200
TZNAME:CEST
DTSTART:20250330T010000
END:DAYLIGHT
BEGIN:STANDARD
TZOFFSETFROM:+0200
TZOFFSETTO:+0100
TZNAME:CET
DTSTART:20251026T010000
END:STANDARD
END:VTIMEZONE
BEGIN:VEVENT
DTSTART;TZID=Europe/Zurich:20240509T181500
DTEND;TZID=Europe/Zurich:20240509T200000
DTSTAMP:20260421T234149
CREATED:20240419T171111Z
LAST-MODIFIED:20240419T171111Z
UID:29701-1715278500-1715284800@genevascdc.com
SUMMARY:No Dancing
DESCRIPTION:
URL:https://genevascdc.com/event/no-dancing/
END:VEVENT
BEGIN:VEVENT
DTSTART;TZID=Europe/Zurich:20240516T181500
DTEND;TZID=Europe/Zurich:20240516T200000
DTSTAMP:20260421T234149
CREATED:20240419T171206Z
LAST-MODIFIED:20240419T171206Z
UID:29703-1715883300-1715889600@genevascdc.com
SUMMARY:Social Class
DESCRIPTION:
URL:https://genevascdc.com/event/social-class-15/
LOCATION:Ecole Necker\, 4 Rue Necker\, 1201 Geneva\, Switzerland
END:VEVENT
BEGIN:VEVENT
DTSTART;TZID=Europe/Zurich:20240523T181500
DTEND;TZID=Europe/Zurich:20240523T200000
DTSTAMP:20260421T234149
CREATED:20240419T171306Z
LAST-MODIFIED:20240419T171306Z
UID:29706-1716488100-1716494400@genevascdc.com
SUMMARY:Social Class / Sips & Nibbles
DESCRIPTION:
URL:https://genevascdc.com/event/social-class-sips-nibbles-2/
LOCATION:Ecole Necker\, 4 Rue Necker\, 1201 Geneva\, Switzerland
END:VEVENT
BEGIN:VEVENT
DTSTART;TZID=Europe/Zurich:20240530T181500
DTEND;TZID=Europe/Zurich:20240530T190000
DTSTAMP:20260421T234149
CREATED:20240419T171410Z
LAST-MODIFIED:20240419T171410Z
UID:29708-1717092900-1717095600@genevascdc.com
SUMMARY:Social Class
DESCRIPTION:
URL:https://genevascdc.com/event/social-class-16/
LOCATION:Ecole Necker\, 4 Rue Necker\, 1201 Geneva\, Switzerland
END:VEVENT
BEGIN:VEVENT
DTSTART;TZID=Europe/Zurich:20240530T190000
DTEND;TZID=Europe/Zurich:20240530T200000
DTSTAMP:20260421T234149
CREATED:20240419T171445Z
LAST-MODIFIED:20240419T171445Z
UID:29711-1717095600-1717099200@genevascdc.com
SUMMARY:AGM
DESCRIPTION:
URL:https://genevascdc.com/event/agm/
LOCATION:Ecole Necker\, 4 Rue Necker\, 1201 Geneva\, Switzerland
END:VEVENT
END:VCALENDAR