BEGIN:VCALENDAR
VERSION:2.0
PRODID:-//Geneva Scottish Country Dancing Club - ECPv6.15.20//NONSGML v1.0//EN
CALSCALE:GREGORIAN
METHOD:PUBLISH
X-WR-CALNAME:Geneva Scottish Country Dancing Club
X-ORIGINAL-URL:https://genevascdc.com
X-WR-CALDESC:Events for Geneva Scottish Country Dancing Club
REFRESH-INTERVAL;VALUE=DURATION:PT1H
X-Robots-Tag:noindex
X-PUBLISHED-TTL:PT1H
BEGIN:VTIMEZONE
TZID:Europe/Zurich
BEGIN:DAYLIGHT
TZOFFSETFROM:+0100
TZOFFSETTO:+0200
TZNAME:CEST
DTSTART:20250330T010000
END:DAYLIGHT
BEGIN:STANDARD
TZOFFSETFROM:+0200
TZOFFSETTO:+0100
TZNAME:CET
DTSTART:20251026T010000
END:STANDARD
BEGIN:DAYLIGHT
TZOFFSETFROM:+0100
TZOFFSETTO:+0200
TZNAME:CEST
DTSTART:20260329T010000
END:DAYLIGHT
BEGIN:STANDARD
TZOFFSETFROM:+0200
TZOFFSETTO:+0100
TZNAME:CET
DTSTART:20261025T010000
END:STANDARD
BEGIN:DAYLIGHT
TZOFFSETFROM:+0100
TZOFFSETTO:+0200
TZNAME:CEST
DTSTART:20270328T010000
END:DAYLIGHT
BEGIN:STANDARD
TZOFFSETFROM:+0200
TZOFFSETTO:+0100
TZNAME:CET
DTSTART:20271031T010000
END:STANDARD
END:VTIMEZONE
BEGIN:VEVENT
DTSTART;TZID=Europe/Zurich:20260423T061500
DTEND;TZID=Europe/Zurich:20260423T200000
DTSTAMP:20260423T015143
CREATED:20231101T074425Z
LAST-MODIFIED:20260114T205110Z
UID:29584-1776924900-1776974400@genevascdc.com
SUMMARY:Social class
DESCRIPTION:
URL:https://genevascdc.com/event/social-class-8/
LOCATION:Ecole Necker\, 4 Rue Necker\, 1201 Geneva\, Switzerland
END:VEVENT
END:VCALENDAR